BEGIN:VCALENDAR
VERSION:2.0
PRODID:-//Kino Tuškanac//Filmski programi//HR
BEGIN:VEVENT
UID:e258bf3a22ae19d0425589a278508cda@kinotuskanac.hr
DTSTAMP:20260421T093035Z
DTSTART:20121113T190000
DTEND:20121113T210000
SUMMARY:Ljepotica i paparazzo
LOCATION:Kino Tuškanac
DESCRIPTION:A Bela e o Paparazzo, Portugal, 2010 R: António-Pedro Vasconcelos
END:VEVENT
END:VCALENDAR