BEGIN:VCALENDAR
VERSION:2.0
PRODID:-//Kino Tuškanac//Filmski programi//HR
BEGIN:VEVENT
UID:9970ae12b6801cc8be9be46034bebdc0@kinotuskanac.hr
DTSTAMP:20260423T143821Z
DTSTART:20121212T190000
DTEND:20121212T210000
SUMMARY:Daleko od Vijetnama
LOCATION:Kino Tuškanac
DESCRIPTION:Loin du Vietnam, 1967. R: Jean-Luc Godard, Alain Resnais, Agnès Varda, Claude Lelouch
END:VEVENT
END:VCALENDAR