BEGIN:VCALENDAR
VERSION:2.0
PRODID:-//Kino Tuškanac//Filmski programi//HR
BEGIN:VEVENT
UID:dd40378a36cb6c8c5978b38a308ce702@kinotuskanac.hr
DTSTAMP:20260423T175209Z
DTSTART:20121212T210000
DTEND:20121212T230000
SUMMARY:Stavisky...
LOCATION:Kino Tuškanac
DESCRIPTION:1974. R: Alain Resnais
END:VEVENT
END:VCALENDAR