BEGIN:VCALENDAR
VERSION:2.0
PRODID:-//Kino Tuškanac//Filmski programi//HR
BEGIN:VEVENT
UID:5685f8aa1da3537a8f7b9b7da113e2fb@kinotuskanac.hr
DTSTAMP:20260423T174809Z
DTSTART:20121213T190000
DTEND:20121213T210000
SUMMARY:Stavisky...
LOCATION:Kino Tuškanac
DESCRIPTION:1974. R: Alain Resnais
END:VEVENT
END:VCALENDAR