BEGIN:VCALENDAR
VERSION:2.0
PRODID:-//Kino Tuškanac//Filmski programi//HR
BEGIN:VEVENT
UID:039062a0aa2cc6157bbd58d95b080dab@kinotuskanac.hr
DTSTAMP:20260423T143822Z
DTSTART:20121213T210000
DTEND:20121213T230000
SUMMARY:Daleko od Vijetnama
LOCATION:Kino Tuškanac
DESCRIPTION:Loin du Vietnam, 1967. R: Jean-Luc Godard, Alain Resnais, Agnès Varda, Claude Lelouch
END:VEVENT
END:VCALENDAR