BEGIN:VCALENDAR
VERSION:2.0
PRODID:-//Kino Tuškanac//Filmski programi//HR
BEGIN:VEVENT
UID:586a361ef99371123b44ce053dbeb79c@kinotuskanac.hr
DTSTAMP:20260423T113300Z
DTSTART:20020430T190000
DTEND:20020430T210000
SUMMARY:Ljepotica i zvijer (1946)
LOCATION:Kino Tuškanac
DESCRIPTION:La belle et la bęte, 1946. R: Jean Cocteau
END:VEVENT
END:VCALENDAR