BEGIN:VCALENDAR
VERSION:2.0
PRODID:-//Kino Tuškanac//Filmski programi//HR
BEGIN:VEVENT
UID:7f99cb6d781c801df70a23325fe126b8@kinotuskanac.hr
DTSTAMP:20260421T100224Z
DTSTART:20121218T210000
DTEND:20121218T230000
SUMMARY:Mélo
LOCATION:Kino Tuškanac
DESCRIPTION:1986 R: Alain Resnais
END:VEVENT
END:VCALENDAR