BEGIN:VCALENDAR
VERSION:2.0
PRODID:-//Kino Tuškanac//Filmski programi//HR
BEGIN:VEVENT
UID:c292abed3dc121156681ba49a01b1d84@kinotuskanac.hr
DTSTAMP:20260425T174123Z
DTSTART:20130202T190000
DTEND:20130202T210000
SUMMARY:Odisejev pogled
LOCATION:Kino Tuškanac
DESCRIPTION:To vlemma tou Odyssea, 1995. R: Theodoros (Theo) Angelopoulos
END:VEVENT
END:VCALENDAR