BEGIN:VCALENDAR
VERSION:2.0
PRODID:-//Kino Tuškanac//Filmski programi//HR
BEGIN:VEVENT
UID:4a0e056234c4eb0cdc0c1bf450025e87@kinotuskanac.hr
DTSTAMP:20260420T115104Z
DTSTART:20130205T190000
DTEND:20130205T210000
SUMMARY:Petrolej
LOCATION:Kino Tuškanac
DESCRIPTION:Boom Town, 1940. R: Jack Conway
END:VEVENT
END:VCALENDAR