BEGIN:VCALENDAR
VERSION:2.0
PRODID:-//Kino Tuškanac//Filmski programi//HR
BEGIN:VEVENT
UID:14e9cd8eb302dbdb07ea09b2c86ff48c@kinotuskanac.hr
DTSTAMP:20260420T115140Z
DTSTART:20130206T210000
DTEND:20130206T230000
SUMMARY:Petrolej
LOCATION:Kino Tuškanac
DESCRIPTION:Boom Town, 1940. R: Jack Conway
END:VEVENT
END:VCALENDAR