BEGIN:VCALENDAR
VERSION:2.0
PRODID:-//Kino Tuškanac//Filmski programi//HR
BEGIN:VEVENT
UID:51fb04278849c48617a0905589cfbf0c@kinotuskanac.hr
DTSTAMP:20260423T143726Z
DTSTART:20130304T190000
DTEND:20130304T210000
SUMMARY:Rođakinja Angélica
LOCATION:Kino Tuškanac
DESCRIPTION:La prima Angélica, 1974. R: Carlos Saura
END:VEVENT
END:VCALENDAR