BEGIN:VCALENDAR
VERSION:2.0
PRODID:-//Kino Tuškanac//Filmski programi//HR
BEGIN:VEVENT
UID:5bb5d97c39a9d1fe356a3edcb6ccdde3@kinotuskanac.hr
DTSTAMP:20260423T143624Z
DTSTART:20130305T190000
DTEND:20130305T210000
SUMMARY:Rođakinja Angélica
LOCATION:Kino Tuškanac
DESCRIPTION:La prima Angélica, 1974. R: Carlos Saura
END:VEVENT
END:VCALENDAR