BEGIN:VCALENDAR
VERSION:2.0
PRODID:-//Kino Tuškanac//Filmski programi//HR
BEGIN:VEVENT
UID:0a33b13809d3e3fb92d2778a992acfd3@kinotuskanac.hr
DTSTAMP:20260426T033010Z
DTSTART:20130305T210000
DTEND:20130305T230000
SUMMARY:El Lazarillo de Tormes
LOCATION:Kino Tuškanac
DESCRIPTION:1960. R: Ardavín, Fernández
END:VEVENT
END:VCALENDAR