BEGIN:VCALENDAR
VERSION:2.0
PRODID:-//Kino Tuškanac//Filmski programi//HR
BEGIN:VEVENT
UID:4aa1a048db8c073cd4fa6079708d184f@kinotuskanac.hr
DTSTAMP:20260426T032736Z
DTSTART:20130306T190000
DTEND:20130306T210000
SUMMARY:El Lazarillo de Tormes
LOCATION:Kino Tuškanac
DESCRIPTION:1960. R: Ardavín, Fernández
END:VEVENT
END:VCALENDAR