BEGIN:VCALENDAR
VERSION:2.0
PRODID:-//Kino Tuškanac//Filmski programi//HR
BEGIN:VEVENT
UID:bd150a5e1181ce7fe05e75dd74291883@kinotuskanac.hr
DTSTAMP:20260423T143803Z
DTSTART:20130313T210000
DTEND:20130313T230000
SUMMARY:El Bola
LOCATION:Kino Tuškanac
DESCRIPTION:2000 R: Achero Mańas
END:VEVENT
END:VCALENDAR