BEGIN:VCALENDAR
VERSION:2.0
PRODID:-//Kino Tuškanac//Filmski programi//HR
BEGIN:VEVENT
UID:5368fbb22ce8c31eba4c2843010736f6@kinotuskanac.hr
DTSTAMP:20260423T143725Z
DTSTART:20130314T190000
DTEND:20130314T210000
SUMMARY:El Bola
LOCATION:Kino Tuškanac
DESCRIPTION:2000 R: Achero Mańas
END:VEVENT
END:VCALENDAR