BEGIN:VCALENDAR
VERSION:2.0
PRODID:-//Kino Tuškanac//Filmski programi//HR
BEGIN:VEVENT
UID:3d53bf80a257c76990ee011c3841da85@kinotuskanac.hr
DTSTAMP:20260425T233557Z
DTSTART:20130402T190000
DTEND:20130402T210000
SUMMARY:Obični ljubavnici
LOCATION:Kino Tuškanac
DESCRIPTION:Les amants réguliers, 2005. R: Philippe Garrel
END:VEVENT
END:VCALENDAR