BEGIN:VCALENDAR
VERSION:2.0
PRODID:-//Kino Tuškanac//Filmski programi//HR
BEGIN:VEVENT
UID:d0ce9c68c4173ac5962fb069f5ad9e77@kinotuskanac.hr
DTSTAMP:20260421T162340Z
DTSTART:20130403T190000
DTEND:20130403T210000
SUMMARY:Hitni poljupci
LOCATION:Kino Tuškanac
DESCRIPTION:Les baisers de secours, 1989. R: Philippe Garrel
END:VEVENT
END:VCALENDAR