BEGIN:VCALENDAR
VERSION:2.0
PRODID:-//Kino Tuškanac//Filmski programi//HR
BEGIN:VEVENT
UID:5b9e1a76b03be8199029fdd1f48f3bdc@kinotuskanac.hr
DTSTAMP:20260421T161910Z
DTSTART:20130404T210000
DTEND:20130404T230000
SUMMARY:Hitni poljupci
LOCATION:Kino Tuškanac
DESCRIPTION:Les baisers de secours, 1989. R: Philippe Garrel
END:VEVENT
END:VCALENDAR