BEGIN:VCALENDAR
VERSION:2.0
PRODID:-//Kino Tuškanac//Filmski programi//HR
BEGIN:VEVENT
UID:19027152d6290bd0bb329e973aaf87c7@kinotuskanac.hr
DTSTAMP:20260420T230955Z
DTSTART:20130405T200000
DTEND:20130405T220000
SUMMARY:Rođenje ljubavi
LOCATION:Kino Tuškanac
DESCRIPTION:La naissance de l'amour, 1993. R: Philippe Garrel
END:VEVENT
END:VCALENDAR