BEGIN:VCALENDAR
VERSION:2.0
PRODID:-//Kino Tuškanac//Filmski programi//HR
BEGIN:VEVENT
UID:1613ef1632ae1de977c4ad6d448f75cd@kinotuskanac.hr
DTSTAMP:20260420T231052Z
DTSTART:20130406T170000
DTEND:20130406T190000
SUMMARY:Rođenje ljubavi
LOCATION:Kino Tuškanac
DESCRIPTION:La naissance de l'amour, 1993. R: Philippe Garrel
END:VEVENT
END:VCALENDAR