BEGIN:VCALENDAR
VERSION:2.0
PRODID:-//Kino Tuškanac//Filmski programi//HR
BEGIN:VEVENT
UID:971ea2936075b274e1ffe248bb5a3dbc@kinotuskanac.hr
DTSTAMP:20260425T233958Z
DTSTART:20130406T190000
DTEND:20130406T210000
SUMMARY:Obični ljubavnici
LOCATION:Kino Tuškanac
DESCRIPTION:Les amants réguliers, 2005. R: Philippe Garrel
END:VEVENT
END:VCALENDAR