BEGIN:VCALENDAR
VERSION:2.0
PRODID:-//Kino Tuškanac//Filmski programi//HR
BEGIN:VEVENT
UID:53e11aa4ebc8112aec0cc30f54c7b7e2@kinotuskanac.hr
DTSTAMP:20260420T205458Z
DTSTART:20130326T190000
DTEND:20130326T210000
SUMMARY:Amália
LOCATION:Kino Tuškanac
DESCRIPTION:2008. R: da Coelho
END:VEVENT
END:VCALENDAR