BEGIN:VCALENDAR
VERSION:2.0
PRODID:-//Kino Tuškanac//Filmski programi//HR
BEGIN:VEVENT
UID:49b38b49b681be892fdb9cd91827616b@kinotuskanac.hr
DTSTAMP:20260420T204952Z
DTSTART:20130327T210000
DTEND:20130327T230000
SUMMARY:Amália
LOCATION:Kino Tuškanac
DESCRIPTION:2008. R: da Coelho
END:VEVENT
END:VCALENDAR