BEGIN:VCALENDAR
VERSION:2.0
PRODID:-//Kino Tuškanac//Filmski programi//HR
BEGIN:VEVENT
UID:52c44bf39ff68ae15b25d9859544d582@kinotuskanac.hr
DTSTAMP:20260420T052314Z
DTSTART:20130414T190000
DTEND:20130414T210000
SUMMARY:Palme
LOCATION:Kino Tuškanac
DESCRIPTION:2012. R: Kristina Lindström, Maud Nycander
END:VEVENT
END:VCALENDAR