BEGIN:VCALENDAR
VERSION:2.0
PRODID:-//Kino Tuškanac//Filmski programi//HR
BEGIN:VEVENT
UID:21c827eb68276368cd227df66cf12c7f@kinotuskanac.hr
DTSTAMP:20260420T145730Z
DTSTART:20130415T190000
DTEND:20130415T210000
SUMMARY:Jednosmjerna za Antibes
LOCATION:Kino Tuškanac
DESCRIPTION:En enkel till Antibes, 2011. R: Richard Hobert
END:VEVENT
END:VCALENDAR