BEGIN:VCALENDAR
VERSION:2.0
PRODID:-//Kino Tuškanac//Filmski programi//HR
BEGIN:VEVENT
UID:925dfa5c4ffa1532c90a5db0eef22d30@kinotuskanac.hr
DTSTAMP:20260420T160946Z
DTSTART:20130416T210000
DTEND:20130416T230000
SUMMARY:Jednosmjerna za Antibes
LOCATION:Kino Tuškanac
DESCRIPTION:En enkel till Antibes, 2011. R: Richard Hobert
END:VEVENT
END:VCALENDAR