BEGIN:VCALENDAR
VERSION:2.0
PRODID:-//Kino Tuškanac//Filmski programi//HR
BEGIN:VEVENT
UID:d6755f1259c348698f5e803b87020008@kinotuskanac.hr
DTSTAMP:20260420T052654Z
DTSTART:20130420T170000
DTEND:20130420T190000
SUMMARY:Palme
LOCATION:Kino Tuškanac
DESCRIPTION:2012. R: Kristina Lindström, Maud Nycander
END:VEVENT
END:VCALENDAR