BEGIN:VCALENDAR
VERSION:2.0
PRODID:-//Kino Tuškanac//Filmski programi//HR
BEGIN:VEVENT
UID:f32103be942433314cffd0dfe4233a26@kinotuskanac.hr
DTSTAMP:20260421T093104Z
DTSTART:20130422T190000
DTEND:20130422T210000
SUMMARY:Zvuk buke
LOCATION:Kino Tuškanac
DESCRIPTION:Sound of Noise, 2010. R: Ola Simonsson, Johannes Stjärne Nilsson
END:VEVENT
END:VCALENDAR