BEGIN:VCALENDAR
VERSION:2.0
PRODID:-//Kino Tuškanac//Filmski programi//HR
BEGIN:VEVENT
UID:a2d9a135ad9d9959c949cd3ccfb480d8@kinotuskanac.hr
DTSTAMP:20260423T143820Z
DTSTART:20130410T190000
DTEND:20130410T210000
SUMMARY:Bratić Basílio
LOCATION:Kino Tuškanac
DESCRIPTION:Primo Basílio, 2007. R: Daniel Filho
END:VEVENT
END:VCALENDAR