BEGIN:VCALENDAR
VERSION:2.0
PRODID:-//Kino Tuškanac//Filmski programi//HR
BEGIN:VEVENT
UID:fc40ea583c444f33eae2f34d3eada84d@kinotuskanac.hr
DTSTAMP:20260423T220320Z
DTSTART:20130413T190000
DTEND:20130413T210000
SUMMARY:Donji grad
LOCATION:Kino Tuškanac
DESCRIPTION:Cidade baixa, 2005. R: Ribeiro Machado
END:VEVENT
END:VCALENDAR