BEGIN:VCALENDAR
VERSION:2.0
PRODID:-//Kino Tuškanac//Filmski programi//HR
BEGIN:VEVENT
UID:e7296dc6b681d642715e39c525bb7fe3@kinotuskanac.hr
DTSTAMP:20260420T195942Z
DTSTART:20130513T190000
DTEND:20130513T210000
SUMMARY:Godina mirnog sunca
LOCATION:Kino Tuškanac
DESCRIPTION:Rok spokojnego slońca, Poljska/SAD/Zapadna Njema, 1984 R: Krzysztof Zanussi
END:VEVENT
END:VCALENDAR