BEGIN:VCALENDAR
VERSION:2.0
PRODID:-//Kino Tuškanac//Filmski programi//HR
BEGIN:VEVENT
UID:8d7075b292c1ef479e04f97b15013339@kinotuskanac.hr
DTSTAMP:20260420T200303Z
DTSTART:20130514T210000
DTEND:20130514T230000
SUMMARY:Godina mirnog sunca
LOCATION:Kino Tuškanac
DESCRIPTION:Rok spokojnego slońca, Poljska/SAD/Zapadna Njema, 1984 R: Krzysztof Zanussi
END:VEVENT
END:VCALENDAR