BEGIN:VCALENDAR
VERSION:2.0
PRODID:-//Kino Tuškanac//Filmski programi//HR
BEGIN:VEVENT
UID:118be7b20c2b77cf4791c9e453439ea7@kinotuskanac.hr
DTSTAMP:20260420T165546Z
DTSTART:20130516T190000
DTEND:20130516T210000
SUMMARY:Život kao smrtonosna seksualno prenosiva bolest
LOCATION:Kino Tuškanac
DESCRIPTION:Zycie jako smiertelna choroba przenoszona droga plciowa, Poljska / Francuska, 2000 R: Krzysztof Zanussi
END:VEVENT
END:VCALENDAR