BEGIN:VCALENDAR
VERSION:2.0
PRODID:-//Kino Tuškanac//Filmski programi//HR
BEGIN:VEVENT
UID:641ecdaa0a88555ef1a80e3cfba7bfa1@kinotuskanac.hr
DTSTAMP:20260420T170008Z
DTSTART:20130517T210000
DTEND:20130517T230000
SUMMARY:Život kao smrtonosna seksualno prenosiva bolest
LOCATION:Kino Tuškanac
DESCRIPTION:Zycie jako smiertelna choroba przenoszona droga plciowa, Poljska / Francuska, 2000 R: Krzysztof Zanussi
END:VEVENT
END:VCALENDAR