BEGIN:VCALENDAR
VERSION:2.0
PRODID:-//Kino Tuškanac//Filmski programi//HR
BEGIN:VEVENT
UID:52321aa169305ae8c45a6d86d1269fd5@kinotuskanac.hr
DTSTAMP:20260419T185721Z
DTSTART:20130624T200000
DTEND:20130624T220000
SUMMARY:Metropolis
LOCATION:Kino Tuškanac
DESCRIPTION:Njemačka, 1927 R: Fritz Lang
END:VEVENT
END:VCALENDAR