BEGIN:VCALENDAR
VERSION:2.0
PRODID:-//Kino Tuškanac//Filmski programi//HR
BEGIN:VEVENT
UID:658083e3501199857cf03aa50c8c5499@kinotuskanac.hr
DTSTAMP:20260421T113625Z
DTSTART:20130626T200000
DTEND:20130626T220000
SUMMARY:Gospodin Foe
LOCATION:Kino Tuškanac
DESCRIPTION:Hallam Foe, 2007. R: David Mackenzie
END:VEVENT
END:VCALENDAR