BEGIN:VCALENDAR
VERSION:2.0
PRODID:-//Kino Tuškanac//Filmski programi//HR
BEGIN:VEVENT
UID:69e9ce03b7d0259d1e32b3dce8229a48@kinotuskanac.hr
DTSTAMP:20260421T113731Z
DTSTART:20130627T200000
DTEND:20130627T220000
SUMMARY:Barbara
LOCATION:Kino Tuškanac
DESCRIPTION:Njemačka, 2012 R: Christian Petzold
END:VEVENT
END:VCALENDAR