BEGIN:VCALENDAR
VERSION:2.0
PRODID:-//Kino Tuškanac//Filmski programi//HR
BEGIN:VEVENT
UID:8a5e08ce05713159da4934e30c096b01@kinotuskanac.hr
DTSTAMP:20260419T185721Z
DTSTART:20131014T190000
DTEND:20131014T210000
SUMMARY:Metropolis
LOCATION:Kino Tuškanac
DESCRIPTION:Njemačka, 1927 R: Fritz Lang
END:VEVENT
END:VCALENDAR