BEGIN:VCALENDAR
VERSION:2.0
PRODID:-//Kino Tuškanac//Filmski programi//HR
BEGIN:VEVENT
UID:65818479dd9619e2691fd2fa91becb7e@kinotuskanac.hr
DTSTAMP:20260420T011619Z
DTSTART:20031106T200000
DTEND:20031106T220000
SUMMARY:Do kraja svijeta
LOCATION:Kino Tuškanac
DESCRIPTION:Bis ans Ende der Welt, 1991 R: Wim Wenders
END:VEVENT
END:VCALENDAR