BEGIN:VCALENDAR
VERSION:2.0
PRODID:-//Kino Tuškanac//Filmski programi//HR
BEGIN:VEVENT
UID:d0886a15ce1575ccfeb02069f4eaf01c@kinotuskanac.hr
DTSTAMP:20260423T150327Z
DTSTART:20131213T210000
DTEND:20131213T230000
SUMMARY:Bez krvi, bez suza
LOCATION:Kino Tuškanac
DESCRIPTION:Pido nunmuldo eobshi, 2002. R: Seung-wan Ryoo
END:VEVENT
END:VCALENDAR