BEGIN:VCALENDAR
VERSION:2.0
PRODID:-//Kino Tuškanac//Filmski programi//HR
BEGIN:VEVENT
UID:4c526145dd294b9b048ba422c19d9730@kinotuskanac.hr
DTSTAMP:20260421T092704Z
DTSTART:20131106T210000
DTEND:20131106T230000
SUMMARY:Aballay neustrašivi
LOCATION:Kino Tuškanac
DESCRIPTION:Aballay, el hombre sin miedo, Argentina, 2010 R: Fernando Spiner
END:VEVENT
END:VCALENDAR