BEGIN:VCALENDAR
VERSION:2.0
PRODID:-//Kino Tuškanac//Filmski programi//HR
BEGIN:VEVENT
UID:cb1690ee335a6a9e6272561991ecd94b@kinotuskanac.hr
DTSTAMP:20260420T052521Z
DTSTART:20131109T210000
DTEND:20131109T230000
SUMMARY:Godina kad su moji roditelji otišli na odmor
LOCATION:Kino Tuškanac
DESCRIPTION:O Ano em que Meus Pais Saíram de Férias, Brazil, 2006 R: Cao Hamburger
END:VEVENT
END:VCALENDAR