BEGIN:VCALENDAR
VERSION:2.0
PRODID:-//Kino Tuškanac//Filmski programi//HR
BEGIN:VEVENT
UID:8d1ca80eb23963f49b9b75a6480f0957@kinotuskanac.hr
DTSTAMP:20260420T052441Z
DTSTART:20131111T190000
DTEND:20131111T210000
SUMMARY:Godina kad su moji roditelji otišli na odmor
LOCATION:Kino Tuškanac
DESCRIPTION:O Ano em que Meus Pais Saíram de Férias, Brazil, 2006 R: Cao Hamburger
END:VEVENT
END:VCALENDAR