BEGIN:VCALENDAR
VERSION:2.0
PRODID:-//Kino Tuškanac//Filmski programi//HR
BEGIN:VEVENT
UID:184dffe34ee77a5c89025dc9d6c884a6@kinotuskanac.hr
DTSTAMP:20260419T141523Z
DTSTART:20131206T200000
DTEND:20131206T220000
SUMMARY:Vuk samotnjak
LOCATION:Kino Tuškanac
DESCRIPTION:Jugoslavija: Hrvatska, 1972 | Mjesto prikazivanja filma: Kulturno informativni centar KIC (Preradovićeva ul. 5) R: Obrad Gluščević
END:VEVENT
END:VCALENDAR