BEGIN:VCALENDAR
VERSION:2.0
PRODID:-//Kino Tuškanac//Filmski programi//HR
BEGIN:VEVENT
UID:e3bcf586338919b23567240b0fbf6d0e@kinotuskanac.hr
DTSTAMP:20260420T011900Z
DTSTART:20131119T200000
DTEND:20131119T220000
SUMMARY:Ben Hur – Gladijator u najam
LOCATION:Kino Tuškanac
DESCRIPTION:Benur – Un gladiatore in affitto, Italija, 2012 R: Massimo Andrei
END:VEVENT
END:VCALENDAR