BEGIN:VCALENDAR
VERSION:2.0
PRODID:-//Kino Tuškanac//Filmski programi//HR
BEGIN:VEVENT
UID:6d936ba2fab79937bf7bd372b736b2d3@kinotuskanac.hr
DTSTAMP:20260424T182839Z
DTSTART:20131118T200000
DTEND:20131118T220000
SUMMARY:Rim, otvoreni grad
LOCATION:Kino Tuškanac
DESCRIPTION:Roma, cittá aperta, 1945 R: Roberto Rossellini
END:VEVENT
END:VCALENDAR