BEGIN:VCALENDAR
VERSION:2.0
PRODID:-//Kino Tuškanac//Filmski programi//HR
BEGIN:VEVENT
UID:0521d8181ce769084a63fe12b5d2c5f4@kinotuskanac.hr
DTSTAMP:20260422T122649Z
DTSTART:20131231T210000
DTEND:20131231T230000
SUMMARY:Gospođica mama
LOCATION:Kino Tuškanac
DESCRIPTION:Bachelor Mother, SAD, 1939 R: Garson Kanin
END:VEVENT
END:VCALENDAR