BEGIN:VCALENDAR
VERSION:2.0
PRODID:-//Kino Tuškanac//Filmski programi//HR
BEGIN:VEVENT
UID:4eaecd08b632a62a0a0abbb58d9082da@kinotuskanac.hr
DTSTAMP:20260423T010535Z
DTSTART:20020504T170000
DTEND:20020504T190000
SUMMARY:Drugo buđenje Christe Klages
LOCATION:Kino Tuškanac
DESCRIPTION:Das zweite Erwachen der Christa Klages, 1977 R: Margarethe von Trotta
END:VEVENT
END:VCALENDAR