BEGIN:VCALENDAR
VERSION:2.0
PRODID:-//Kino Tuškanac//Filmski programi//HR
BEGIN:VEVENT
UID:dd41746915b38c1e4d1ca7624c96a401@kinotuskanac.hr
DTSTAMP:20260423T160838Z
DTSTART:20031110T190000
DTEND:20031110T210000
SUMMARY:Treći ključ
LOCATION:Kino Tuškanac
DESCRIPTION:1983 R: Zoran Tadić
END:VEVENT
END:VCALENDAR